BEGIN:VCALENDAR
VERSION:2.0
PRODID:-//Przeszkole nr 2 Trzemeszno - ECPv5.16.1//NONSGML v1.0//EN
CALSCALE:GREGORIAN
METHOD:PUBLISH
X-WR-CALNAME:Przeszkole nr 2 Trzemeszno
X-ORIGINAL-URL:https://mis-uszatek.pl
X-WR-CALDESC:Wydarzenia dla Przeszkole nr 2 Trzemeszno
BEGIN:VTIMEZONE
TZID:UTC
BEGIN:STANDARD
TZOFFSETFROM:+0000
TZOFFSETTO:+0000
TZNAME:UTC
DTSTART:20250101T000000
END:STANDARD
END:VTIMEZONE
BEGIN:VEVENT
DTSTART;TZID=UTC:20250529T080000
DTEND;TZID=UTC:20250529T170000
DTSTAMP:20260422T201336
CREATED:20240910T204017Z
LAST-MODIFIED:20250424T043522Z
UID:38506-1748505600-1748538000@mis-uszatek.pl
SUMMARY:Dzień Mamy i Taty - Zajączki
DESCRIPTION:
URL:https://mis-uszatek.pl/?tribe_events=dzien-mamy-i-taty-zajaczki
END:VEVENT
END:VCALENDAR