BEGIN:VCALENDAR
VERSION:2.0
PRODID:-//Przeszkole nr 2 Trzemeszno - ECPv5.16.1//NONSGML v1.0//EN
CALSCALE:GREGORIAN
METHOD:PUBLISH
X-WR-CALNAME:Przeszkole nr 2 Trzemeszno
X-ORIGINAL-URL:https://mis-uszatek.pl
X-WR-CALDESC:Wydarzenia dla Przeszkole nr 2 Trzemeszno
BEGIN:VTIMEZONE
TZID:UTC
BEGIN:STANDARD
TZOFFSETFROM:+0000
TZOFFSETTO:+0000
TZNAME:UTC
DTSTART:20250101T000000
END:STANDARD
END:VTIMEZONE
BEGIN:VEVENT
DTSTART;TZID=UTC:20250523T080000
DTEND;TZID=UTC:20250523T080000
DTSTAMP:20260422T142432
CREATED:20240910T203744Z
LAST-MODIFIED:20250423T060954Z
UID:38498-1747987200-1747987200@mis-uszatek.pl
SUMMARY:Dzień Mamy i Taty - Króliczki
DESCRIPTION:
URL:https://mis-uszatek.pl/?tribe_events=dzien-mamy-i-taty-kroliczki
END:VEVENT
END:VCALENDAR