BEGIN:VCALENDAR
VERSION:2.0
PRODID:-//Przeszkole nr 2 Trzemeszno - ECPv5.16.1//NONSGML v1.0//EN
CALSCALE:GREGORIAN
METHOD:PUBLISH
X-WR-CALNAME:Przeszkole nr 2 Trzemeszno
X-ORIGINAL-URL:https://mis-uszatek.pl
X-WR-CALDESC:Wydarzenia dla Przeszkole nr 2 Trzemeszno
BEGIN:VTIMEZONE
TZID:UTC
BEGIN:STANDARD
TZOFFSETFROM:+0000
TZOFFSETTO:+0000
TZNAME:UTC
DTSTART:20250101T000000
END:STANDARD
END:VTIMEZONE
BEGIN:VEVENT
DTSTART;TZID=UTC:20250530T080000
DTEND;TZID=UTC:20250530T170000
DTSTAMP:20260422T214403
CREATED:20240910T203950Z
LAST-MODIFIED:20250424T043605Z
UID:38504-1748592000-1748624400@mis-uszatek.pl
SUMMARY:Dzień Mamy i Taty - Koguciki
DESCRIPTION:
URL:https://mis-uszatek.pl/?tribe_events=dzien-mamy-i-taty-koguciki
END:VEVENT
END:VCALENDAR